View In:
ArcGIS JavaScript
ArcGIS Online Map Viewer
ArcGIS Earth
ArcMap
View Footprint In:
ArcGIS Online Map Viewer
Service Description: City Imagery by Eagle Aerial from June 2015. Published as Image Service.
Name: Imagery/CityAerial2015i
Description: City Imagery by Eagle Aerial from June 2015. Published as Image Service.
Single Fused Map Cache: false
Extent:
XMin: 6199000
YMin: 2167500
XMax: 6269000
YMax: 2222500
Spatial Reference: 102646
(2230)
Initial Extent:
XMin: 6199000
YMin: 2167500
XMax: 6269000
YMax: 2222500
Spatial Reference: 102646
(2230)
Full Extent:
XMin: 6199000
YMin: 2167500
XMax: 6269000
YMax: 2222500
Spatial Reference: 102646
(2230)
Pixel Size X: 0.25
Pixel Size Y: 0.25
Band Count: 4
Pixel Type: U8
RasterFunction Infos: {"rasterFunctionInfos": [{
"name": "None",
"description": "",
"help": ""
}]}
Mensuration Capabilities: Basic
Has Histograms: true
Has Colormap: false
Has Multi Dimensions : false
Rendering Rule:
Min Scale: 0
Max Scale: 0
Copyright Text: Eagle Aerial, City of Lake Elsinore
Service Data Type: esriImageServiceDataTypeGeneric
Min Values: 0, 0, 0, 255
Max Values: 255, 255, 255, 255
Mean Values: 171.14814445271105, 162.24954854438312, 150.77260042162337, 255
Standard Deviation Values: 72.69550933907554, 74.68388512959025, 82.38278491311206, 0
Object ID Field:
Fields:
None
Default Mosaic Method: Center
Allowed Mosaic Methods:
SortField:
SortValue: null
Mosaic Operator: First
Default Compression Quality: 75
Default Resampling Method: Bilinear
Max Record Count: null
Max Image Height: 4100
Max Image Width: 15000
Max Download Image Count: null
Max Mosaic Image Count: null
Allow Raster Function: true
Allow Compute TiePoints: false
Supports Statistics: false
Supports Advanced Queries: false
Use StandardizedQueries: true
Raster Type Infos:
Name: Raster Dataset
Description: Supports all ArcGIS Raster Datasets
Help:
Has Raster Attribute Table: false
Edit Fields Info: null
Ownership Based AccessControl For Rasters: null
Child Resources:
Info
Histograms
Key Properties
Legend
rasterFunctionInfos
Supported Operations:
Export Image
Identify
Measure
Compute Histograms
Compute Statistics Histograms
Get Samples
Compute Class Statistics
Query Boundary
Compute Pixel Location
Validate
Project