View In:
ArcGIS JavaScript
ArcGIS Online Map Viewer
ArcGIS Earth
ArcMap
View Footprint In:
ArcGIS Online Map Viewer
Service Description: Lake Elsinore city aerial flown in fall of 2021.
Name: Imagery/LakeElsinoreAerial2021
Description: Lake Elsinore city aerial flown in fall of 2021.
Single Fused Map Cache: false
Extent:
XMin: 6198068.332385528
YMin: 2165095.4917178093
XMax: 6269669.082385528
YMax: 2222012.4917178093
Spatial Reference: 103008
(6426)
Initial Extent:
XMin: 6198068.332385528
YMin: 2165095.4917178093
XMax: 6269669.082385528
YMax: 2222012.4917178093
Spatial Reference: 103008
(6426)
Full Extent:
XMin: 6198068.332385528
YMin: 2165095.4917178093
XMax: 6269669.082385528
YMax: 2222012.4917178093
Spatial Reference: 103008
(6426)
Pixel Size X: 0.25
Pixel Size Y: 0.25
Band Count: 3
Pixel Type: U8
RasterFunction Infos: {"rasterFunctionInfos": [{
"name": "None",
"description": "",
"help": ""
}]}
Mensuration Capabilities: Basic
Has Histograms: true
Has Colormap: false
Has Multi Dimensions : false
Rendering Rule:
Min Scale: 0
Max Scale: 0
Copyright Text: City of Lake Elsinore
Service Data Type: esriImageServiceDataTypeRGB
Min Values: 0, 0, 0
Max Values: 255, 255, 255
Mean Values: 130.62309174368, 127.23937314993, 122.07976024097
Standard Deviation Values: 47.226923481556, 44.567259262374, 44.269147549804
Object ID Field:
Fields:
None
Default Mosaic Method: Center
Allowed Mosaic Methods:
SortField:
SortValue: null
Mosaic Operator: First
Default Compression Quality: 75
Default Resampling Method: Bilinear
Max Record Count: null
Max Image Height: 4100
Max Image Width: 15000
Max Download Image Count: null
Max Mosaic Image Count: null
Allow Raster Function: true
Allow Compute TiePoints: false
Supports Statistics: false
Supports Advanced Queries: false
Use StandardizedQueries: true
Raster Type Infos:
Name: Raster Dataset
Description: Supports all ArcGIS Raster Datasets
Help:
Has Raster Attribute Table: false
Edit Fields Info: null
Ownership Based AccessControl For Rasters: null
Child Resources:
Info
Histograms
Key Properties
Legend
rasterFunctionInfos
Supported Operations:
Export Image
Identify
Measure
Compute Histograms
Compute Statistics Histograms
Get Samples
Compute Class Statistics
Query Boundary
Compute Pixel Location
Validate
Project